

BEGIN:VCALENDAR
VERSION:2.0
PRODID:-// - ECPv6.15.17.1//NONSGML v1.0//EN
CALSCALE:GREGORIAN
METHOD:PUBLISH
X-ORIGINAL-URL:https://www.djangomatics.com
X-WR-CALDESC:Events for 
REFRESH-INTERVAL;VALUE=DURATION:PT1H
X-Robots-Tag:noindex
X-PUBLISHED-TTL:PT1H
BEGIN:VTIMEZONE
TZID:America/Los_Angeles
BEGIN:DAYLIGHT
TZOFFSETFROM:-0800
TZOFFSETTO:-0700
TZNAME:PDT
DTSTART:20240310T100000
END:DAYLIGHT
BEGIN:STANDARD
TZOFFSETFROM:-0700
TZOFFSETTO:-0800
TZNAME:PST
DTSTART:20241103T090000
END:STANDARD
BEGIN:DAYLIGHT
TZOFFSETFROM:-0800
TZOFFSETTO:-0700
TZNAME:PDT
DTSTART:20250309T100000
END:DAYLIGHT
BEGIN:STANDARD
TZOFFSETFROM:-0700
TZOFFSETTO:-0800
TZNAME:PST
DTSTART:20251102T090000
END:STANDARD
BEGIN:DAYLIGHT
TZOFFSETFROM:-0800
TZOFFSETTO:-0700
TZNAME:PDT
DTSTART:20260308T100000
END:DAYLIGHT
BEGIN:STANDARD
TZOFFSETFROM:-0700
TZOFFSETTO:-0800
TZNAME:PST
DTSTART:20261101T090000
END:STANDARD
END:VTIMEZONE
BEGIN:VEVENT
DTSTART;TZID=America/Los_Angeles:20250606T190000
DTEND;TZID=America/Los_Angeles:20250606T220000
DTSTAMP:20260424T053743
CREATED:20250308T195246Z
LAST-MODIFIED:20250308T195246Z
UID:649-1749236400-1749247200@www.djangomatics.com
SUMMARY:Live at the Pink Door
DESCRIPTION:
URL:https://www.djangomatics.com/shows/live-at-the-pink-door-2/
LOCATION:The Pink Door\, 1919 Post Alley\, Seattle\, WA\, 98101\, United States
ORGANIZER;CN="The Djangomatics":MAILTO:info@djangomatics.com
END:VEVENT
BEGIN:VEVENT
DTSTART;TZID=America/Los_Angeles:20250629T110000
DTEND;TZID=America/Los_Angeles:20250629T140000
DTSTAMP:20260424T053743
CREATED:20250404T015336Z
LAST-MODIFIED:20250404T015336Z
UID:655-1751194800-1751205600@www.djangomatics.com
SUMMARY:Mercer Island Farmers Market
DESCRIPTION:
URL:https://www.djangomatics.com/shows/mercer-island-farmers-market/
LOCATION:Mercer Island Farmer’s Market\, 7700 SE 32nd Street\, Mercer Island\, WA\, 98040\, United States
ATTACH;FMTTYPE=image/jpeg:https://www.djangomatics.com/wp-content/uploads/2025/04/IMG_3498.jpeg
END:VEVENT
END:VCALENDAR